BEGIN:VCALENDAR
VERSION:2.0
PRODID:icalendar-ruby
CALSCALE:GREGORIAN
METHOD:PUBLISH
BEGIN:VEVENT
DTSTAMP:20260422T135520Z
UID:31-212006@frankfordplainsumc.org
DTSTART:20260505T210000Z
DTEND:20260505T230000Z
CLASS:PUBLIC
CREATED:20260421T092227
DESCRIPTION:
LAST-MODIFIED:20260421T092227
LOCATION:Frankford Plains UMC
SUMMARY:Fish & Chips Dinner
URL;VALUE=URI:https://frankfordplainsumc.org/events/fish-chips-dinner/2026-
 05-05
END:VEVENT
END:VCALENDAR
